BEGIN:VCALENDAR
VERSION:2.0
PRODID:-//Plone.org//NONSGML plone.app.event//EN
X-WR-TIMEZONE:US/Central
BEGIN:VEVENT
SUMMARY:To the Library & Beyond
DTSTART;TZID=US/Central:20190610T100000
DTEND;TZID=US/Central:20190610T103000
DTSTAMP:20260420T155233Z
UID:8dcc614533dc41ad8b51431d3e8934c4@saas_stack_varnish:6080
CONTACT:272-4707
CREATED:20190329T193152Z
DESCRIPTION:Storytime for children 2 - 4 years old
LAST-MODIFIED:20190329T193156Z
LOCATION:Muleshoe Area Public Library
URL:https://mapl.ploud.net/news-events/lib-cal/to-the-library-beyond
END:VEVENT
BEGIN:VTIMEZONE
TZID:US/Central
X-LIC-LOCATION:US/Central
BEGIN:DAYLIGHT
DTSTART:20190310T030000
TZNAME:CDT
TZOFFSETFROM:-0600
TZOFFSETTO:-0500
END:DAYLIGHT
END:VTIMEZONE
END:VCALENDAR
