BEGIN:VCALENDAR
VERSION:2.0
PRODID:-//Plone.org//NONSGML plone.app.event//EN
X-WR-TIMEZONE:US/Central
BEGIN:VEVENT
SUMMARY:Agency Support Group Day
DTSTART;VALUE=DATE:20190410
DTEND;VALUE=DATE:20190411
DTSTAMP:20260426T043051Z
UID:0122b5a20e6a4dbaa534be94cc52a5b5@saas_stack_varnish:6080
CONTACT:8062724707
CREATED:20190329T200949Z
LAST-MODIFIED:20190329T200953Z
URL:https://mapl.ploud.net/news-events/lib-cal/agency-support-group-day
END:VEVENT
END:VCALENDAR
